BEGIN:VCALENDAR
VERSION:2.0
PRODID:-//SIIRI - ECPv6.15.17.1//NONSGML v1.0//EN
CALSCALE:GREGORIAN
METHOD:PUBLISH
X-WR-CALNAME:SIIRI
X-ORIGINAL-URL:https://siiri-sfb.de
X-WR-CALDESC:Veranstaltungen für SIIRI
REFRESH-INTERVAL;VALUE=DURATION:PT1H
X-Robots-Tag:noindex
X-PUBLISHED-TTL:PT1H
BEGIN:VTIMEZONE
TZID:Europe/Berlin
BEGIN:DAYLIGHT
TZOFFSETFROM:+0100
TZOFFSETTO:+0200
TZNAME:CEST
DTSTART:20220327T010000
END:DAYLIGHT
BEGIN:STANDARD
TZOFFSETFROM:+0200
TZOFFSETTO:+0100
TZNAME:CET
DTSTART:20221030T010000
END:STANDARD
BEGIN:DAYLIGHT
TZOFFSETFROM:+0100
TZOFFSETTO:+0200
TZNAME:CEST
DTSTART:20230326T010000
END:DAYLIGHT
BEGIN:STANDARD
TZOFFSETFROM:+0200
TZOFFSETTO:+0100
TZNAME:CET
DTSTART:20231029T010000
END:STANDARD
BEGIN:DAYLIGHT
TZOFFSETFROM:+0100
TZOFFSETTO:+0200
TZNAME:CEST
DTSTART:20240331T010000
END:DAYLIGHT
BEGIN:STANDARD
TZOFFSETFROM:+0200
TZOFFSETTO:+0100
TZNAME:CET
DTSTART:20241027T010000
END:STANDARD
END:VTIMEZONE
BEGIN:VEVENT
DTSTART;TZID=Europe/Berlin:20231121T170000
DTEND;TZID=Europe/Berlin:20231121T180000
DTSTAMP:20260424T174258
CREATED:20230403T220313Z
LAST-MODIFIED:20250319T170447Z
UID:3301-1700586000-1700589600@siiri-sfb.de
SUMMARY:Spatio-Temporal Single-Cell Analysis with Fluidic Force Microscopy
DESCRIPTION:Wir freuen uns sehr\, Dr. Orane Guillaume-Gentil als Teil unserer Implant Lecture Series begrüßen zu dürfen. \nDr. Orane Guillaume-Gentil ist Wissenschaftlerin und Zell-AFM-Spezialistin an der École Polytechnique Fédérale de Lausanne (EPFL) in der Schweiz. Sie gehört zu den führenden Wissenschaftler:innen\, die eine auf Mikrofluidik basierende Methode für die Transkriptomik lebender Einzelzellen entwickelt hat\, welche 2022 in Nature veröffentlicht wurde. Diese Methode ermöglicht erstmals eine zeitliche Aufzeichnung der genetischen Expression von Zellen\, beispielsweise während der Differenzierung einzelner Zellen oder als Reaktion auf eine pathogene Invasion. Ihr Vortrag trägt den Titel: \n„Spatio-Temporal Single-Cell Analysis with Fluidic Force Microscopy“\n\nErfahren Sie mehr über Dr. Orane Guillaume-Gentil und ihre wissenschaftliche Arbeit\nZur Übersicht aller „Implant Lecture Series“-Seminare\n\nAn dieser Stelle möchten wir unseren aufrichtigen Dank an PD. Dr. Dr. Philippe Korn zum Ausdruck bringen\, der dieses Ereignis moderieren wird. Bitte beachten Sie\, dass dieses Seminar ausschließlich über Microsoft Teams stattfinden wird.
URL:https://siiri-sfb.de/event/implant-lecture-series-november-seminar/
LOCATION:Digitales Seminar via Microsoft Teams
CATEGORIES:Seminar (vergangen)
ATTACH;FMTTYPE=image/jpeg:https://siiri-sfb.de/wp-content/uploads/2023/04/SIIRI_BILD_Implant-Lecture-Series-X.jpg
ORGANIZER;CN="SFB Transregio 298 %E2%80%93 SIIRI":MAILTO:siiri@mh-hannover.de
END:VEVENT
END:VCALENDAR