BEGIN:VCALENDAR
VERSION:2.0
PRODID:-//SIIRI - ECPv6.15.17.1//NONSGML v1.0//EN
CALSCALE:GREGORIAN
METHOD:PUBLISH
X-WR-CALNAME:SIIRI
X-ORIGINAL-URL:https://siiri-sfb.de
X-WR-CALDESC:Veranstaltungen für SIIRI
REFRESH-INTERVAL;VALUE=DURATION:PT1H
X-Robots-Tag:noindex
X-PUBLISHED-TTL:PT1H
BEGIN:VTIMEZONE
TZID:Europe/Berlin
BEGIN:DAYLIGHT
TZOFFSETFROM:+0100
TZOFFSETTO:+0200
TZNAME:CEST
DTSTART:20240331T010000
END:DAYLIGHT
BEGIN:STANDARD
TZOFFSETFROM:+0200
TZOFFSETTO:+0100
TZNAME:CET
DTSTART:20241027T010000
END:STANDARD
BEGIN:DAYLIGHT
TZOFFSETFROM:+0100
TZOFFSETTO:+0200
TZNAME:CEST
DTSTART:20250330T010000
END:DAYLIGHT
BEGIN:STANDARD
TZOFFSETFROM:+0200
TZOFFSETTO:+0100
TZNAME:CET
DTSTART:20251026T010000
END:STANDARD
BEGIN:DAYLIGHT
TZOFFSETFROM:+0100
TZOFFSETTO:+0200
TZNAME:CEST
DTSTART:20260329T010000
END:DAYLIGHT
BEGIN:STANDARD
TZOFFSETFROM:+0200
TZOFFSETTO:+0100
TZNAME:CET
DTSTART:20261025T010000
END:STANDARD
END:VTIMEZONE
BEGIN:VEVENT
DTSTART;VALUE=DATE:20251113
DTEND;VALUE=DATE:20251114
DTSTAMP:20260425T205905
CREATED:20241202T234548Z
LAST-MODIFIED:20251123T141940Z
UID:7915-1762992000-1763078399@siiri-sfb.de
SUMMARY:Knovember der Wissenschaft 2025 – Erlebe am 13.11.2025 die Forschung am NIFE hautnah!
DESCRIPTION:Am 13. November öffnet das Niedersächsische Forschungszentrum für Biomedizintechnik\, Implantatfoschung und Entwicklung (NIFE) wieder seine Türen für euch. Gemeinsam haben wir ein abwechslungsreiches Programm zusammengestellt\, bei dem ihr die neuesten Entwicklungen in der Biomedizintechnik\, Implantatforschung und nachhaltigen Medizintechnologien hautnah erleben könnt. \nWarum du dabei sein solltest: \n\nErlebe spannende Führungen durch das Forschungszentrum NIFE.\nTauche ein in die Welt der nachhaltigen Implantate und erfahre\, wie innovative Technologien das Leben von Patient:innen verbessern können.\nLerne von unseren Expert:innen und entdecke\, wie du selbst Teil der Zukunft der Medizintechnik werden kannst.\nHöre inspirierende Vorträge von Fachleuten des Forschungsverbunds SIIRI.\nEntdecke unsere Expo mit einem tollen Mitmach-Spiel.\n\nMelde dich gleich an – wir freuen uns auf dich!
URL:https://siiri-sfb.de/event/oeffentlicher-vortrag-zahnimplantate-fuer-gesetzlich-krankenversicherte/
LOCATION:Niedersächsisches Zentrum für Biomedizintechnik\, Implantatforschung und Entwicklung (NIFE) | Skywalk – Ebene H0\, Stadtfelddamm 34\, Hannover\, 30625
ATTACH;FMTTYPE=image/jpeg:https://siiri-sfb.de/wp-content/uploads/2025/11/2007a1e7e59f-knowember_1920_x_1080_px.jpg
ORGANIZER;CN="SFB Transregio 298 %E2%80%93 SIIRI":MAILTO:siiri@mh-hannover.de
END:VEVENT
BEGIN:VEVENT
DTSTART;TZID=Europe/Berlin:20251125T180000
DTEND;TZID=Europe/Berlin:20251125T193000
DTSTAMP:20260425T205905
CREATED:20250904T123254Z
LAST-MODIFIED:20250904T123254Z
UID:9524-1764093600-1764099000@siiri-sfb.de
SUMMARY:Digitalisierung und künstliche Intelligenz in der modernen Zahnmedizin
DESCRIPTION:Die moderne Zahnmedizin befindet sich im Wandel: Digitale Technologien und Künstliche Intelligenz verändern Diagnoseverfahren\, Therapieplanung und Behandlung grundlegend. Mit präzisen digitalen Methoden lassen sich individuelle Therapiepläne erstellen\, während computergestützte Herstellungsprozesse hochwertige\, passgenaue Restaurationen ermöglichen. \nKünstliche Intelligenz optimiert diese Abläufe zusätzlich und sorgt für eine maßgeschneiderte\, präzise Versorgung\, die den Patienten in den Mittelpunkt stellt. So entstehen zukunftsweisende Behandlungskonzepte\, die Qualität\, Effizienz und Sicherheit in der Zahnmedizin auf ein neues Niveau heben. \nGehen Sie in den direkten Dialog mit SIIRI Sprecherin Prof. Dr. Meike Stiesch oder verfolgen Sie den Vortrag im LIVE Stream auf Youtube unter Patientenuniversität MHH. \nFür weitere Informationen zu den Expert:innenvorträgen besuchen Sie die Webseite der Patientenuniversität. \nZur Seite der Patientenuniversität
URL:https://siiri-sfb.de/event/digitalisierung-und-kuenstliche-intelligenz-in-der-modernen-zahnmedizin/
LOCATION:Medizinische Hochschule Hannover | J01-H0-1010 | Hörsaal F\, Carl-Neuberg-Str. 1\, Hannover\, 30625
CATEGORIES:Alle Veranstaltungen,Öffentliches Event
ATTACH;FMTTYPE=image/jpeg:https://siiri-sfb.de/wp-content/uploads/2022/10/SIIRI_CV-BILD_Stiesch-Meike.jpg
END:VEVENT
END:VCALENDAR