BEGIN:VCALENDAR
VERSION:2.0
PRODID:-//SIIRI - ECPv6.15.17.1//NONSGML v1.0//EN
CALSCALE:GREGORIAN
METHOD:PUBLISH
X-ORIGINAL-URL:https://siiri-sfb.de/en/
X-WR-CALDESC:Events for SIIRI
REFRESH-INTERVAL;VALUE=DURATION:PT1H
X-Robots-Tag:noindex
X-PUBLISHED-TTL:PT1H
BEGIN:VTIMEZONE
TZID:Europe/Berlin
BEGIN:DAYLIGHT
TZOFFSETFROM:+0100
TZOFFSETTO:+0200
TZNAME:CEST
DTSTART:20220327T010000
END:DAYLIGHT
BEGIN:STANDARD
TZOFFSETFROM:+0200
TZOFFSETTO:+0100
TZNAME:CET
DTSTART:20221030T010000
END:STANDARD
BEGIN:DAYLIGHT
TZOFFSETFROM:+0100
TZOFFSETTO:+0200
TZNAME:CEST
DTSTART:20230326T010000
END:DAYLIGHT
BEGIN:STANDARD
TZOFFSETFROM:+0200
TZOFFSETTO:+0100
TZNAME:CET
DTSTART:20231029T010000
END:STANDARD
BEGIN:DAYLIGHT
TZOFFSETFROM:+0100
TZOFFSETTO:+0200
TZNAME:CEST
DTSTART:20240331T010000
END:DAYLIGHT
BEGIN:STANDARD
TZOFFSETFROM:+0200
TZOFFSETTO:+0100
TZNAME:CET
DTSTART:20241027T010000
END:STANDARD
END:VTIMEZONE
BEGIN:VEVENT
DTSTART;TZID=Europe/Berlin:20230418T180000
DTEND;TZID=Europe/Berlin:20230418T200000
DTSTAMP:20260425T181241
CREATED:20230320T141236Z
LAST-MODIFIED:20250320T141914Z
UID:8725-1681840800-1681848000@siiri-sfb.de
SUMMARY:Ear Implants for the Future – SIIRI for public at MHH
DESCRIPTION:Themed Evening on Ear Implants led by Prof. Thomas Lenarz\, Director of the Department of Otorhinolaryngology at the Medical School Hannover Experience exciting lectures on the latest developments in the world of acoustic implants and hear from leading experts how innovative implant technologies can revolutionize hearing. Take the opportunity to ask questions and engage in discussions with the experts. \nLectures (in German): \n\n\n“Akustische Implantate“Prof. phil. nat. Hannes Maier\, Head of the “Middle Ear Implants” Research Group at the German Hearing Center Hannover \n\n\n“Biologisierte Implantate“Prof. Dr. Atanasia Warnecke\, Department of Otorhinolaryngology\, MHH \n\n\n“Hören mit dem Gehirn“Prof. Waldo Nogueira\, Head of the “Auditory Implants” Research Group at the German Hearing Center Hannover \n\n\n“„Robotics – präzise Einführung der Implantate verbessert die beste Kommunikation mit den Nerven“Dr. med. Rolf Salcher\, Department of Otorhinolaryngology\, MHH \n\n\nRegistration: \nTo register\, please contact us via email at: \nSIIRI@mh-hannover.de \nWe look forward to your participation!
URL:https://siiri-sfb.de/en/event/ear-implants-for-the-future-siiri-for-public-at-mhh/
LOCATION:Medizinische Hochschule Hannover | J01-H0-1040 | Hörsaal M\, Carl-Neuberg-Str. 1\, Hannover\, 30625\, Deutschland
CATEGORIES:Public Event
ATTACH;FMTTYPE=image/jpeg:https://siiri-sfb.de/wp-content/uploads/2025/03/SIIRI-for-public_3.jpg
END:VEVENT
END:VCALENDAR