BEGIN:VCALENDAR
VERSION:2.0
PRODID:-//SIIRI - ECPv6.15.17.1//NONSGML v1.0//EN
CALSCALE:GREGORIAN
METHOD:PUBLISH
X-ORIGINAL-URL:https://siiri-sfb.de/en/
X-WR-CALDESC:Events for SIIRI
REFRESH-INTERVAL;VALUE=DURATION:PT1H
X-Robots-Tag:noindex
X-PUBLISHED-TTL:PT1H
BEGIN:VTIMEZONE
TZID:Europe/Berlin
BEGIN:DAYLIGHT
TZOFFSETFROM:+0100
TZOFFSETTO:+0200
TZNAME:CEST
DTSTART:20220327T010000
END:DAYLIGHT
BEGIN:STANDARD
TZOFFSETFROM:+0200
TZOFFSETTO:+0100
TZNAME:CET
DTSTART:20221030T010000
END:STANDARD
BEGIN:DAYLIGHT
TZOFFSETFROM:+0100
TZOFFSETTO:+0200
TZNAME:CEST
DTSTART:20230326T010000
END:DAYLIGHT
BEGIN:STANDARD
TZOFFSETFROM:+0200
TZOFFSETTO:+0100
TZNAME:CET
DTSTART:20231029T010000
END:STANDARD
BEGIN:DAYLIGHT
TZOFFSETFROM:+0100
TZOFFSETTO:+0200
TZNAME:CEST
DTSTART:20240331T010000
END:DAYLIGHT
BEGIN:STANDARD
TZOFFSETFROM:+0200
TZOFFSETTO:+0100
TZNAME:CET
DTSTART:20241027T010000
END:STANDARD
END:VTIMEZONE
BEGIN:VEVENT
DTSTART;TZID=Europe/Berlin:20230502T180000
DTEND;TZID=Europe/Berlin:20230502T200000
DTSTAMP:20260424T223054
CREATED:20230424T115722Z
LAST-MODIFIED:20250320T142135Z
UID:8721-1683050400-1683057600@siiri-sfb.de
SUMMARY:Hip and Knee Implants for the Future – SIIRI for Public at DIAKOVERE Annastift!
DESCRIPTION:Meet Prof. Henning Windhagen\, Head of the Orthopedic Clinic at MHH in DIAKOVERE Annastift\, and his team for an evening focused on “Knee and Hip Implants of the Future.” Discover the latest insights into innovative implant technologies\, learn more about their development\, and how they improve the lives of patients. Take the opportunity to ask questions and engage with the experts. \nLectures: \n\n\n“Moderne Knieimplantate: Wie Implantate und Robotische Chirurgie zusammengehören“Dr. med. Lars-René Tücking\, Department of Orthopedics\, DIAKOVERE Annastift \n\n\n“Den Menschen noch besser vermessen: Eine gang-analytische Studie aus der Knieendoprothetik“M. Sc. Ann-Kathrin Einfeldt\, Laboratory for Biomechanics and Biomaterials \n\n\n“Minimalinvasive Chirurgie und Hüftimplantate“Dr. med. Nils Becker\, Department of Orthopedics\, DIAKOVERE Annastift \n\n\n“Sichere Implantate: Implantdesign\, Testverfahren und Materialentwicklung“Dr. -Ing. Bastian Welke\, Laboratory for Biomechanics and Biomaterials \n\n\n“PImplantatlockerungen durch körpereigene Zellen vermeiden“Prof. Dr. rer. nat. Andrea Hoffmann\, Department of Orthopedics\, MHH \n\n\nRegistration: \nTo register\, please contact us by email at: \nSIIRI@mh-hannover.de \nWe look forward to your participation!
URL:https://siiri-sfb.de/en/event/hip-and-knee-implants-for-the-future-siiri-for-public-at-diakovere-annastift/
LOCATION:Annastift | Festsaal\, Anna-von-Borries-Str. 1-7\, Hannover\, 30625\, Deutschland
CATEGORIES:Public Event
ATTACH;FMTTYPE=image/jpeg:https://siiri-sfb.de/wp-content/uploads/2025/03/SIIRI-for-public_4.jpg
ORGANIZER;CN="SFB Transregio 298 %E2%80%93 SIIRI":MAILTO:siiri@mh-hannover.de
END:VEVENT
END:VCALENDAR