BEGIN:VCALENDAR
VERSION:2.0
PRODID:-//SIIRI - ECPv6.15.17.1//NONSGML v1.0//EN
CALSCALE:GREGORIAN
METHOD:PUBLISH
X-ORIGINAL-URL:https://siiri-sfb.de/en/
X-WR-CALDESC:Events for SIIRI
REFRESH-INTERVAL;VALUE=DURATION:PT1H
X-Robots-Tag:noindex
X-PUBLISHED-TTL:PT1H
BEGIN:VTIMEZONE
TZID:Europe/Berlin
BEGIN:DAYLIGHT
TZOFFSETFROM:+0100
TZOFFSETTO:+0200
TZNAME:CEST
DTSTART:20220327T010000
END:DAYLIGHT
BEGIN:STANDARD
TZOFFSETFROM:+0200
TZOFFSETTO:+0100
TZNAME:CET
DTSTART:20221030T010000
END:STANDARD
BEGIN:DAYLIGHT
TZOFFSETFROM:+0100
TZOFFSETTO:+0200
TZNAME:CEST
DTSTART:20230326T010000
END:DAYLIGHT
BEGIN:STANDARD
TZOFFSETFROM:+0200
TZOFFSETTO:+0100
TZNAME:CET
DTSTART:20231029T010000
END:STANDARD
BEGIN:DAYLIGHT
TZOFFSETFROM:+0100
TZOFFSETTO:+0200
TZNAME:CEST
DTSTART:20240331T010000
END:DAYLIGHT
BEGIN:STANDARD
TZOFFSETFROM:+0200
TZOFFSETTO:+0100
TZNAME:CET
DTSTART:20241027T010000
END:STANDARD
END:VTIMEZONE
BEGIN:VEVENT
DTSTART;TZID=Europe/Berlin:20230509T180000
DTEND;TZID=Europe/Berlin:20230509T200000
DTSTAMP:20260424T132551
CREATED:20230424T115900Z
LAST-MODIFIED:20250320T144358Z
UID:8730-1683655200-1683662400@siiri-sfb.de
SUMMARY:Dental Implants for the Future – Your Smile Will Be Smart!
DESCRIPTION:This year’s closing event\, led by Prof. Hans Jürgen Maier\, Director of the Institute of Materials Science at Leibniz University Hannover and SIIRI Co-Spokesperson. Learn more about the latest developments and innovative technologies in the field of dental implants. Let the experts show you how modern implants can not only enhance your smile but also make it smarter. Take the opportunity to ask questions and engage with the professionals. \nVorträge: \n\n\n„Dentale Implantate – Welchen Herausforderungen müssen wir uns heute stellen?“PD. Dr. med. Philipp-Cornelius Pott\, Department of Prosthetic Dentisty and Biomedical Materials Science\, Medical School Hannover (MHH) \n\n\n„Implantatintegrierte Pumpen zur gezielten Wirkstofffreigabe“Prof. Dr.-Ing. Marc Christopher Wurz\, Institute of Mikroproduction Technology\, Leibniz University Hannover (LUH) \n\n\n„Reden hilft! Unterstützende Kommunikation als Schlüsselfaktor guter Gesundheits- und Therapieentscheidungen“Prof. Dr. phil. Eva Baumann\, Institute of Journalism and Communication Research\, Hanover University of Music\, Drama and Media (HMTMH) \n\n\nEinblicke in die Forschungslabore \nInsights into the Research Labs \nAfter the lectures\, we offer you the opportunity to gain an exclusive insight into our research labs at the Production Technology Center Hannover. \n. \nRegistration: \nTo register\, please contact us by email at: \nSIIRI@mh-hannover.de \nWe look forward to your participation!
URL:https://siiri-sfb.de/en/event/dental-implants-of-the-future-your-smile-will-be-smart/
LOCATION:Produktionstechnisches Zentrum Hannover | PZH\, An der Universität 2\, Garbsen\, 30823\, Deutschland
CATEGORIES:Public Event
ATTACH;FMTTYPE=image/jpeg:https://siiri-sfb.de/wp-content/uploads/2025/03/SIIRI-for-public_5.jpg
ORGANIZER;CN="SFB Transregio 298 %E2%80%93 SIIRI":MAILTO:siiri@mh-hannover.de
END:VEVENT
END:VCALENDAR