BEGIN:VCALENDAR
VERSION:2.0
PRODID:-//SIIRI - ECPv6.15.17.1//NONSGML v1.0//EN
CALSCALE:GREGORIAN
METHOD:PUBLISH
X-WR-CALNAME:SIIRI
X-ORIGINAL-URL:https://siiri-sfb.de/en/
X-WR-CALDESC:Events for SIIRI
REFRESH-INTERVAL;VALUE=DURATION:PT1H
X-Robots-Tag:noindex
X-PUBLISHED-TTL:PT1H
BEGIN:VTIMEZONE
TZID:Europe/Berlin
BEGIN:DAYLIGHT
TZOFFSETFROM:+0100
TZOFFSETTO:+0200
TZNAME:CEST
DTSTART:20220327T010000
END:DAYLIGHT
BEGIN:STANDARD
TZOFFSETFROM:+0200
TZOFFSETTO:+0100
TZNAME:CET
DTSTART:20221030T010000
END:STANDARD
BEGIN:DAYLIGHT
TZOFFSETFROM:+0100
TZOFFSETTO:+0200
TZNAME:CEST
DTSTART:20230326T010000
END:DAYLIGHT
BEGIN:STANDARD
TZOFFSETFROM:+0200
TZOFFSETTO:+0100
TZNAME:CET
DTSTART:20231029T010000
END:STANDARD
BEGIN:DAYLIGHT
TZOFFSETFROM:+0100
TZOFFSETTO:+0200
TZNAME:CEST
DTSTART:20240331T010000
END:DAYLIGHT
BEGIN:STANDARD
TZOFFSETFROM:+0200
TZOFFSETTO:+0100
TZNAME:CET
DTSTART:20241027T010000
END:STANDARD
END:VTIMEZONE
BEGIN:VEVENT
DTSTART;TZID=Europe/Berlin:20230516T170000
DTEND;TZID=Europe/Berlin:20230516T180000
DTSTAMP:20260424T042728
CREATED:20230403T214816Z
LAST-MODIFIED:20250319T170658Z
UID:5354-1684256400-1684260000@siiri-sfb.de
SUMMARY:Medical industry – the chances and the demands of a growing industry in the next decades
DESCRIPTION:We are delighted to welcome Dr. Uli Sutor as part of our Implant Lecture Series. \nDr. Sutor is a Key Account Manager at DMG Mori EMEA GmbH\, with his professional focus primarily encompassing manufacturing technology for the precision production of top-notch medical products such as knee joints\, bone screws\, hip joint components\, and sophisticated surgical instruments. In this context\, the lecture within the SIIRI Implant Lecture Series will delve into the topic: \n“Medical industry – the chances and the demands of a growing industry in the next decades”\n\nOverview on the Implant Lecture Seminar Series\n\nAt this point\, we express our sincere gratitude to Professor Berend Denkena\, who will be moderating this event. Please note that this seminar will take place digitally via Microsoft Teams.
URL:https://siiri-sfb.de/en/event/medical-industry-the-chances-and-the-demands-of-a-growing-industry-in-the-next-decades/
LOCATION:Virtual seminar via Microsoft Teams
CATEGORIES:Seminar (past)
ATTACH;FMTTYPE=image/jpeg:https://siiri-sfb.de/wp-content/uploads/2025/03/Uli-Sutor.jpg
ORGANIZER;CN="SFB Transregio 298 %E2%80%93 SIIRI":MAILTO:siiri@mh-hannover.de
END:VEVENT
END:VCALENDAR