BEGIN:VCALENDAR
VERSION:2.0
PRODID:-//SIIRI - ECPv6.15.17.1//NONSGML v1.0//EN
CALSCALE:GREGORIAN
METHOD:PUBLISH
X-ORIGINAL-URL:https://siiri-sfb.de/en/
X-WR-CALDESC:Events for SIIRI
REFRESH-INTERVAL;VALUE=DURATION:PT1H
X-Robots-Tag:noindex
X-PUBLISHED-TTL:PT1H
BEGIN:VTIMEZONE
TZID:Europe/Berlin
BEGIN:DAYLIGHT
TZOFFSETFROM:+0100
TZOFFSETTO:+0200
TZNAME:CEST
DTSTART:20250330T010000
END:DAYLIGHT
BEGIN:STANDARD
TZOFFSETFROM:+0200
TZOFFSETTO:+0100
TZNAME:CET
DTSTART:20251026T010000
END:STANDARD
BEGIN:DAYLIGHT
TZOFFSETFROM:+0100
TZOFFSETTO:+0200
TZNAME:CEST
DTSTART:20260329T010000
END:DAYLIGHT
BEGIN:STANDARD
TZOFFSETFROM:+0200
TZOFFSETTO:+0100
TZNAME:CET
DTSTART:20261025T010000
END:STANDARD
BEGIN:DAYLIGHT
TZOFFSETFROM:+0100
TZOFFSETTO:+0200
TZNAME:CEST
DTSTART:20270328T010000
END:DAYLIGHT
BEGIN:STANDARD
TZOFFSETFROM:+0200
TZOFFSETTO:+0100
TZNAME:CET
DTSTART:20271031T010000
END:STANDARD
END:VTIMEZONE
BEGIN:VEVENT
DTSTART;TZID=Europe/Berlin:20260825T150000
DTEND;TZID=Europe/Berlin:20260825T160000
DTSTAMP:20260421T114536
CREATED:20260121T105740Z
LAST-MODIFIED:20260121T114525Z
UID:9763-1787670000-1787673600@siiri-sfb.de
SUMMARY:Implant Lecture Series - August
DESCRIPTION:We are looking forward to the Implant Lecture in June\, which will be moderated by Prof. Dr. Susanne Häußler from the Institute of Molecular Bacteriology \nTWINCORE at Hannover Medical School (MHH). \nThe lectures will be held in English\, and the guest speakers will be announced shortly.
URL:https://siiri-sfb.de/en/event/implant-lecture-august/
LOCATION:Niedersächsisches Zentrum für Biomedizintechnik\, Implantatforschung und Entwicklung (NIFE) | Skywalk – Ebene H0\, Stadtfelddamm 34\, Hannover\, 30625
CATEGORIES:All Events,Implant Lecture Series
ATTACH;FMTTYPE=image/jpeg:https://siiri-sfb.de/wp-content/uploads/2023/03/SIIRI_BILD_Projektbereich-B.jpg
ORGANIZER;CN="SFB Transregio 298 %E2%80%93 SIIRI":MAILTO:siiri@mh-hannover.de
END:VEVENT
END:VCALENDAR